BEGIN:VCALENDAR
VERSION:2.0
PRODID:-// - ECPv6.15.16.1//NONSGML v1.0//EN
CALSCALE:GREGORIAN
METHOD:PUBLISH
X-ORIGINAL-URL:https://publicinterestreporting.org
X-WR-CALDESC:Events for 
REFRESH-INTERVAL;VALUE=DURATION:PT1H
X-Robots-Tag:noindex
X-PUBLISHED-TTL:PT1H
BEGIN:VTIMEZONE
TZID:America/New_York
BEGIN:DAYLIGHT
TZOFFSETFROM:-0500
TZOFFSETTO:-0400
TZNAME:EDT
DTSTART:20250309T070000
END:DAYLIGHT
BEGIN:STANDARD
TZOFFSETFROM:-0400
TZOFFSETTO:-0500
TZNAME:EST
DTSTART:20251102T060000
END:STANDARD
BEGIN:DAYLIGHT
TZOFFSETFROM:-0500
TZOFFSETTO:-0400
TZNAME:EDT
DTSTART:20260308T070000
END:DAYLIGHT
BEGIN:STANDARD
TZOFFSETFROM:-0400
TZOFFSETTO:-0500
TZNAME:EST
DTSTART:20261101T060000
END:STANDARD
BEGIN:DAYLIGHT
TZOFFSETFROM:-0500
TZOFFSETTO:-0400
TZNAME:EDT
DTSTART:20270314T070000
END:DAYLIGHT
BEGIN:STANDARD
TZOFFSETFROM:-0400
TZOFFSETTO:-0500
TZNAME:EST
DTSTART:20271107T060000
END:STANDARD
END:VTIMEZONE
BEGIN:VEVENT
DTSTART;TZID=America/New_York:20260522T093000
DTEND;TZID=America/New_York:20260522T113000
DTSTAMP:20260423T200804
CREATED:20251228T021743Z
LAST-MODIFIED:20251228T022011Z
UID:21519-1779442200-1779449400@publicinterestreporting.org
SUMMARY:Webinar: Using OpenRefine to clean data
DESCRIPTION:This tutorial will introduce OpenRefine\, a free\, open-source tool for exploring\, cleaning and reshaping data. Participants will transform a sample spreadsheet of messy\, disorganized data into a state where it can be analyzed meaningfully. Additionally\, we’ll address some of the most common data-manipulation tasks\, including:  \n\nclean up spelling inconsistencies \nremove leading and trailing whitespace \nsplit cells into multiple columns
URL:https://publicinterestreporting.org/event/webinar-using-openrefine-to-clean-data-3/
END:VEVENT
END:VCALENDAR