BEGIN:VCALENDAR
VERSION:2.0
PRODID:-// - ECPv6.15.16.1//NONSGML v1.0//EN
CALSCALE:GREGORIAN
METHOD:PUBLISH
X-ORIGINAL-URL:https://publicinterestreporting.org
X-WR-CALDESC:Events for 
REFRESH-INTERVAL;VALUE=DURATION:PT1H
X-Robots-Tag:noindex
X-PUBLISHED-TTL:PT1H
BEGIN:VTIMEZONE
TZID:America/New_York
BEGIN:DAYLIGHT
TZOFFSETFROM:-0500
TZOFFSETTO:-0400
TZNAME:EDT
DTSTART:20240310T070000
END:DAYLIGHT
BEGIN:STANDARD
TZOFFSETFROM:-0400
TZOFFSETTO:-0500
TZNAME:EST
DTSTART:20241103T060000
END:STANDARD
BEGIN:DAYLIGHT
TZOFFSETFROM:-0500
TZOFFSETTO:-0400
TZNAME:EDT
DTSTART:20250309T070000
END:DAYLIGHT
BEGIN:STANDARD
TZOFFSETFROM:-0400
TZOFFSETTO:-0500
TZNAME:EST
DTSTART:20251102T060000
END:STANDARD
BEGIN:DAYLIGHT
TZOFFSETFROM:-0500
TZOFFSETTO:-0400
TZNAME:EDT
DTSTART:20260308T070000
END:DAYLIGHT
BEGIN:STANDARD
TZOFFSETFROM:-0400
TZOFFSETTO:-0500
TZNAME:EST
DTSTART:20261101T060000
END:STANDARD
BEGIN:DAYLIGHT
TZOFFSETFROM:-0500
TZOFFSETTO:-0400
TZNAME:EDT
DTSTART:20270314T070000
END:DAYLIGHT
BEGIN:STANDARD
TZOFFSETFROM:-0400
TZOFFSETTO:-0500
TZNAME:EST
DTSTART:20271107T060000
END:STANDARD
END:VTIMEZONE
BEGIN:VEVENT
DTSTART;TZID=America/New_York:20260110T130000
DTEND;TZID=America/New_York:20260110T150000
DTSTAMP:20260423T233113
CREATED:20251228T014123Z
LAST-MODIFIED:20251228T014123Z
UID:21507-1768050000-1768057200@publicinterestreporting.org
SUMMARY:New Grant Recipient Orientation
DESCRIPTION:Please complete and file profile information in advance
URL:https://publicinterestreporting.org/event/new-grant-recipient-orientation-2/
END:VEVENT
BEGIN:VEVENT
DTSTART;TZID=America/New_York:20251229T090000
DTEND;TZID=America/New_York:20251229T120000
DTSTAMP:20260423T233113
CREATED:20251226T205131Z
LAST-MODIFIED:20251228T204903Z
UID:21491-1766998800-1767009600@publicinterestreporting.org
SUMMARY:Webinar: Reporting in Conflict Zones
DESCRIPTION:We’ll discuss aspects of conflict journalism including\nPreparation: This includes discussion on studying the history of a particular conflict and previous patterns in confrontations\, best methods for familiarizing oneself with the political and social climate and law enforcement practices\, carrying out a systematic risk assessment\, developing a communications plan\, and role-playing for likely conflict scenarios\nFinding trustworthy local assistance\nEffectiveness on Scene– credentialing\, emergency supplies\, appropriate clothing– focused interviewing and observational techniques in dynamic conflict situations\n– Situational awareness with an emphasis on the READE system (recognizing threats\, evaluating one’s own position and avoiding entrapment\, keeping a low profile\, exiting in a timely\, safe manner)\nPress organizations that specialize in reporting on conflict
URL:https://publicinterestreporting.org/event/webinar-reporting-in-conflict-zones/
END:VEVENT
BEGIN:VEVENT
DTSTART;TZID=America/New_York:20251223T143000
DTEND;TZID=America/New_York:20251223T170000
DTSTAMP:20260423T233113
CREATED:20251227T031759Z
LAST-MODIFIED:20251227T031759Z
UID:21489-1766500200-1766509200@publicinterestreporting.org
SUMMARY:CPIR Public Records Seminar
DESCRIPTION:
URL:https://publicinterestreporting.org/event/cpir-public-records-seminar/
END:VEVENT
BEGIN:VEVENT
DTSTART;TZID=America/New_York:20251210T130000
DTEND;TZID=America/New_York:20251210T150000
DTSTAMP:20260423T233113
CREATED:20251227T031917Z
LAST-MODIFIED:20251227T031917Z
UID:21485-1765371600-1765378800@publicinterestreporting.org
SUMMARY:New Grant Recipient Orientation
DESCRIPTION:December 10\, 2025  1:15 pm – 3:15 pm \n\n\nPlease complete and file profile information in advance
URL:https://publicinterestreporting.org/event/new-grant-recipient-orientation/
END:VEVENT
END:VCALENDAR