BEGIN:VCALENDAR
VERSION:2.0
PRODID:-// - ECPv6.15.16.1//NONSGML v1.0//EN
CALSCALE:GREGORIAN
METHOD:PUBLISH
X-ORIGINAL-URL:https://publicinterestreporting.org
X-WR-CALDESC:Events for 
REFRESH-INTERVAL;VALUE=DURATION:PT1H
X-Robots-Tag:noindex
X-PUBLISHED-TTL:PT1H
BEGIN:VTIMEZONE
TZID:America/New_York
BEGIN:DAYLIGHT
TZOFFSETFROM:-0500
TZOFFSETTO:-0400
TZNAME:EDT
DTSTART:20250309T070000
END:DAYLIGHT
BEGIN:STANDARD
TZOFFSETFROM:-0400
TZOFFSETTO:-0500
TZNAME:EST
DTSTART:20251102T060000
END:STANDARD
BEGIN:DAYLIGHT
TZOFFSETFROM:-0500
TZOFFSETTO:-0400
TZNAME:EDT
DTSTART:20260308T070000
END:DAYLIGHT
BEGIN:STANDARD
TZOFFSETFROM:-0400
TZOFFSETTO:-0500
TZNAME:EST
DTSTART:20261101T060000
END:STANDARD
BEGIN:DAYLIGHT
TZOFFSETFROM:-0500
TZOFFSETTO:-0400
TZNAME:EDT
DTSTART:20270314T070000
END:DAYLIGHT
BEGIN:STANDARD
TZOFFSETFROM:-0400
TZOFFSETTO:-0500
TZNAME:EST
DTSTART:20271107T060000
END:STANDARD
END:VTIMEZONE
BEGIN:VEVENT
DTSTART;TZID=America/New_York:20260306T093000
DTEND;TZID=America/New_York:20260306T123000
DTSTAMP:20260423T182937
CREATED:20251228T023536Z
LAST-MODIFIED:20251228T023536Z
UID:21524-1772789400-1772800200@publicinterestreporting.org
SUMMARY:Webinar: Conflict Journalism
DESCRIPTION:We’ll discuss aspects of conflict journalism including\nPreparation\nThis includes discussion on studying the history of a particular conflict and previous patterns in confrontations\, best methods for familiarizing oneself with the political and social climate and law enforcement practices\, carrying out a systematic risk assessment\, developing a communications plan\, and role-playing for likely conflict scenarios\nFinding trustworthy local assistance\nEffectiveness on Scene\n– credentialing\, emergency supplies\, appropriate clothing \n– focused interviewing and observational techniques in dynamic conflict situaions \n– Situational awareness with an emphasis on the READE system (recognizing threats\, evaluating one’s own position and avoiding entrapment\, keeping a low profile\, exiting in a timely\, safe manner)\nPress organizations that specialize in reporting on conflict
URL:https://publicinterestreporting.org/event/webinar-conflict-journalism/
END:VEVENT
BEGIN:VEVENT
DTSTART;TZID=America/New_York:20260310T130000
DTEND;TZID=America/New_York:20260310T150000
DTSTAMP:20260423T182937
CREATED:20251228T020554Z
LAST-MODIFIED:20251228T020554Z
UID:21511-1773147600-1773154800@publicinterestreporting.org
SUMMARY:New Grant Recipient Orientation
DESCRIPTION:Please complete and file profile information in advance
URL:https://publicinterestreporting.org/event/new-grant-recipient-orientation-4/
END:VEVENT
BEGIN:VEVENT
DTSTART;TZID=America/New_York:20260323T093000
DTEND;TZID=America/New_York:20260323T113000
DTSTAMP:20260423T182937
CREATED:20251228T021542Z
LAST-MODIFIED:20251228T021542Z
UID:21517-1774258200-1774265400@publicinterestreporting.org
SUMMARY:Webinar: Using OpenRefine to clean data
DESCRIPTION:This tutorial will introduce OpenRefine\, a free\, open-source tool for exploring\, cleaning and reshaping data. Participants will transform a sample spreadsheet of messy\, disorganized data into a state where it can be analyzed meaningfully. Additionally\, we’ll address some of the most common data-manipulation tasks\, including:  \n\nclean up spelling inconsistencies \nremove leading and trailing whitespace \nsplit cells into multiple columns
URL:https://publicinterestreporting.org/event/webinar-using-openrefine-to-clean-data-2/
END:VEVENT
END:VCALENDAR